BEGIN:VCALENDAR
VERSION:2.0
PRODID:-//Peggyogart - ECPv5.13.0//NONSGML v1.0//EN
CALSCALE:GREGORIAN
METHOD:PUBLISH
X-WR-CALNAME:Peggyogart
X-ORIGINAL-URL:https://www.peggyogart.com
X-WR-CALDESC:Events for Peggyogart
REFRESH-INTERVAL;VALUE=DURATION:PT1H
X-Robots-Tag:noindex
X-PUBLISHED-TTL:PT1H
BEGIN:VTIMEZONE
TZID:UTC
BEGIN:STANDARD
TZOFFSETFROM:+0000
TZOFFSETTO:+0000
TZNAME:UTC
DTSTART:20210101T000000
END:STANDARD
END:VTIMEZONE
BEGIN:VEVENT
DTSTART;TZID=UTC:20210709T060000
DTEND;TZID=UTC:20210709T190000
DTSTAMP:20260425T163038
CREATED:20210611T193309Z
LAST-MODIFIED:20210618T054924Z
UID:274-1625810400-1625857200@www.peggyogart.com
SUMMARY:Yoga Prénatal
DESCRIPTION:Le Yoga Prénatal s’adresse à toute future maman qui souhaite continuer une activité physique pendant sa grossesse\, ou qui a besoin de s’accorder un espace de détente et un moment à soi.\nLes postures proposées selon la méthode B.De Gasquet\, sont particulièrement adaptées à partir du 5ième mois de grossesse.
URL:https://www.peggyogart.com/event/yoga-prenatal/
LOCATION:Studio Issy PeggYoga\, 25 Rue Séverine\, Issy-les-Moulineaux\, 92130\, France
CATEGORIES:Maternité,Yoga Prénatal
ATTACH;FMTTYPE=image/png:https://www.peggyogart.com/wp-content/uploads/2021/05/PeggYogArt-étoiles_Plan-de-travail-1.png
ORGANIZER;CN="Peggy":MAILTO:contact@peggyoga.com
END:VEVENT
END:VCALENDAR