BEGIN:VCALENDAR
VERSION:2.0
PRODID:-//Peggyogart - ECPv5.13.0//NONSGML v1.0//EN
CALSCALE:GREGORIAN
METHOD:PUBLISH
X-WR-CALNAME:Peggyogart
X-ORIGINAL-URL:https://www.peggyogart.com
X-WR-CALDESC:Events for Peggyogart
REFRESH-INTERVAL;VALUE=DURATION:PT1H
X-Robots-Tag:noindex
X-PUBLISHED-TTL:PT1H
BEGIN:VTIMEZONE
TZID:UTC
BEGIN:STANDARD
TZOFFSETFROM:+0000
TZOFFSETTO:+0000
TZNAME:UTC
DTSTART:20210101T000000
END:STANDARD
END:VTIMEZONE
BEGIN:VEVENT
DTSTART;TZID=UTC:20210615T080000
DTEND;TZID=UTC:20210615T170000
DTSTAMP:20260424T122530
CREATED:20210615T135541Z
LAST-MODIFIED:20210615T153130Z
UID:477-1623744000-1623776400@www.peggyogart.com
SUMMARY:TEST
DESCRIPTION:extrait
URL:https://www.peggyogart.com/event/test/
CATEGORIES:Flow ConecTé
ATTACH;FMTTYPE=image/jpeg:https://www.peggyogart.com/wp-content/uploads/2021/06/pexels-cottonbro-4659703-scaled.jpg
END:VEVENT
END:VCALENDAR