BEGIN:VCALENDAR
VERSION:2.0
PRODID:-//Peggyogart - ECPv5.13.0//NONSGML v1.0//EN
CALSCALE:GREGORIAN
METHOD:PUBLISH
X-WR-CALNAME:Peggyogart
X-ORIGINAL-URL:https://www.peggyogart.com
X-WR-CALDESC:Events for Peggyogart
REFRESH-INTERVAL;VALUE=DURATION:PT1H
X-Robots-Tag:noindex
X-PUBLISHED-TTL:PT1H
BEGIN:VTIMEZONE
TZID:UTC
BEGIN:STANDARD
TZOFFSETFROM:+0000
TZOFFSETTO:+0000
TZNAME:UTC
DTSTART:20210101T000000
END:STANDARD
END:VTIMEZONE
BEGIN:VEVENT
DTSTART;TZID=UTC:20210706T190000
DTEND;TZID=UTC:20210706T203000
DTSTAMP:20260424T090235
CREATED:20210611T193212Z
LAST-MODIFIED:20210618T055632Z
UID:272-1625598000-1625603400@www.peggyogart.com
SUMMARY:Atelier Yang Yin
DESCRIPTION:Le Yang Yin Yoga est une pratique globale alternant une séquence dynamique basée sur l’énergie Yang\, et une partie de détente musculaire\, calée sur l’énergie Yin.\nCes 2 styles de yoga opposés et complémentaires favorisent un équilibre mental et physique\, entre des postures yang générant de la vitalité\, et des postures yin permettant d’accéder à une profonde relaxation des muscles et au système para sympathique.\nUne force tranquille se dégage\, entre un état d’écoute intérieure apaisant\, et une circulation du souffle\, fluide\, et dans un rythme presque dansant.
URL:https://www.peggyogart.com/event/atelier-yang-yin-2/
LOCATION:Studio Issy PeggYoga\, 25 Rue Séverine\, Issy-les-Moulineaux\, 92130\, France
CATEGORIES:Ateliers
ATTACH;FMTTYPE=image/png:https://www.peggyogart.com/wp-content/uploads/2021/05/PeggYogArt-étoiles-05.png
ORGANIZER;CN="Peggy":MAILTO:contact@peggyoga.com
END:VEVENT
BEGIN:VEVENT
DTSTART;TZID=UTC:20210709T060000
DTEND;TZID=UTC:20210709T190000
DTSTAMP:20260424T090235
CREATED:20210610T171027Z
LAST-MODIFIED:20210618T055625Z
UID:251-1625810400-1625857200@www.peggyogart.com
SUMMARY:Atelier Flow ConecTé
DESCRIPTION:Inspiré du Hatha Flow et du mouvement dansé\, le Flow ConecTé permet d’enchaîner\, en se connectant à son propre flow et à son souffle\, des postures ou des mouvements issus du yoga et de la danse\, en développant et en affirmant son style.\nAtelier ouvert aux débutants.\n			\n			\n				\n				\n				\n				\n				\n				\n			\n			\n				\n				\n			\n				\n				\n				\n				\n				\n				\n				Your content goes here. Edit or remove this text inline or in the module Content settings. You can also style every aspect of this content in the module Design settings and even apply custom CSS to this text in the module Advanced settings. \n			\n			\n				\n				\n			\n				\n				\n				\n				\n				\n				\n				S’inscrire à la formation\n			\n				Clics
URL:https://www.peggyogart.com/event/atelier-flow-conecte/
LOCATION:Studio Issy PeggYoga\, 25 Rue Séverine\, Issy-les-Moulineaux\, 92130\, France
CATEGORIES:Ateliers
ATTACH;FMTTYPE=image/png:https://www.peggyogart.com/wp-content/uploads/2021/05/PeggYogArt-étoiles-02.png
ORGANIZER;CN="Peggy":MAILTO:contact@peggyoga.com
END:VEVENT
END:VCALENDAR